BEGIN:VCALENDAR
PRODID:-//Fastball Productions//NONSGML v1.0//EN
VERSION:2.0
X-WR-TIMEZONE:
BEGIN:VEVENT
DTSTART:20251129T113000
DTEND:20251129T133000
DTSTAMP:20260421T080948
UID:3a61ed715ee66c48bacf237fa7bb52893005@basesllenas.com
CREATED:20260421T080948
DESCRIPTION:Montalban vs. Carta Roja , Realizado
LOCATION:Polideportivo 'Jesús Berra' ,Colinas de Vista Alegre, 1021
SUMMARY:Montalban vs. Carta Roja
END:VEVENT
BEGIN:VEVENT
DTSTART:20260117T113000
DTEND:20260117T133000
DTSTAMP:20260421T080948
UID:a724b9124acc7b5058ed75a31a9c29193007@basesllenas.com
CREATED:20260421T080948
DESCRIPTION:Montalban vs. Rancheros , Realizado
LOCATION:Polideportivo 'Jesús Berra' ,Colinas de Vista Alegre, 1021
SUMMARY:Montalban vs. Rancheros
END:VEVENT
BEGIN:VEVENT
DTSTART:20260214T083000
DTEND:20260214T103000
DTSTAMP:20260421T080948
UID:51be2fed6c55f5aa0c16ff14c140b1873015@basesllenas.com
CREATED:20260421T080948
DESCRIPTION:Montalban vs. San Agustin , Realizado
LOCATION:Polideportivo 'Jesús Berra' ,Colinas de Vista Alegre, 1021
SUMMARY:Montalban vs. San Agustin
END:VEVENT
BEGIN:VEVENT
DTSTART:20260328T093000
DTEND:20260328T113000
DTSTAMP:20260421T080948
UID:4b86ca48d90bd5f0978afa3a012503a43036@basesllenas.com
CREATED:20260421T080948
DESCRIPTION:Montalban vs. San Agustin , Realizado
LOCATION:Sierra Maestra UCV ,Los Chaguaramos, 1020
SUMMARY:Montalban vs. San Agustin
END:VEVENT
END:VCALENDAR
