BEGIN:VCALENDAR
PRODID:-//Fastball Productions//NONSGML v1.0//EN
VERSION:2.0
X-WR-TIMEZONE:
BEGIN:VEVENT
DTSTART:20260117T143000
DTEND:20260117T163000
DTSTAMP:20260421T092756
UID:c02f9de3c2f3040751818aacc7f60b743008@basesllenas.com
CREATED:20260421T092756
DESCRIPTION:Los Guaros vs. Marlins , Realizado
LOCATION:Polideportivo 'Jesús Berra' ,Colinas de Vista Alegre, 1021
SUMMARY:Los Guaros vs. Marlins
END:VEVENT
BEGIN:VEVENT
DTSTART:20260124T143000
DTEND:20260124T163000
DTSTAMP:20260421T092756
UID:b1f62fa99de9f27a048344d55c5ef7a63011@basesllenas.com
CREATED:20260421T092756
DESCRIPTION:Veredas vs. Los Guaros , Realizado
LOCATION:Polideportivo 'Jesús Berra' ,Colinas de Vista Alegre, 1021
SUMMARY:Veredas vs. Los Guaros
END:VEVENT
BEGIN:VEVENT
DTSTART:20260214T113000
DTEND:20260214T133000
DTSTAMP:20260421T092756
UID:53a1320cb5d2f56130ad5222f93da3743016@basesllenas.com
CREATED:20260421T092756
DESCRIPTION:Mercenarios vs. Los Guaros , Realizado
LOCATION:Polideportivo 'Jesús Berra' ,Colinas de Vista Alegre, 1021
SUMMARY:Mercenarios vs. Los Guaros
END:VEVENT
BEGIN:VEVENT
DTSTART:20260411T143000
DTEND:20260411T163000
DTSTAMP:20260421T092756
UID:9023effe3c16b0477df9b93e26d57e2c3040@basesllenas.com
CREATED:20260421T092756
DESCRIPTION:Madera Fina vs. Los Guaros , Realizado
LOCATION:Polideportivo 'Jesús Berra' ,Colinas de Vista Alegre, 1021
SUMMARY:Madera Fina vs. Los Guaros
END:VEVENT
BEGIN:VEVENT
DTSTART:20260418T143000
DTEND:20260418T163000
DTSTAMP:20260421T092756
UID:975e6107778ce7a40b9878bfb96a16a73046@basesllenas.com
CREATED:20260421T092756
DESCRIPTION:Los Guaros vs. Pelicanos , Realizado
LOCATION:La Rinconada ,Coche, 1020
SUMMARY:Los Guaros vs. Pelicanos
END:VEVENT
END:VCALENDAR
